BEGIN:VCALENDAR
METHOD:PUBLISH
VERSION:2.0
PRODID:-//Marietta City Schools Adaptive Games//Calendar//EN

BEGIN:VEVENT
SUMMARY:Marietta | Marietta City Schools Adaptive Games
DESCRIPTION:Being
able to celebrate the special abilities of our K-12 athletes in a
non-competitive environment is truly special!  RCoM is proud to sponsor the 2nd Annual Adaptive Games Thursday\, October 13\, 2022
(with a rain date of October 14) from 10:00am-12:30pm at Marietta High School.  This year the event will be even bigger\, as Pre-K students from the Emily Lembeck Early Learning Center and student-athletes from Campbell High School will be participating.  We need volunteers to helps with setting up the games\, coaching students during the games and event clean -up.  





 
X-ALT-DESC:<p class="xxmsonormal"><span style="font-family:&quot;Calibri Light&quot;,sans-serif">Being
able to celebrate the special abilities of our K-12 athletes in a
non-competitive environment is truly special!&nbsp; RCoM is proud to sponsor the 2nd Annual Adaptive Games&nbsp;</span><span style="background-color: var(--bs-body-bg); font-family: &quot;Calibri Light&quot;, sans-serif; font-size: var(--bs-body-font-size); font-weight: var(--bs-body-font-weight); text-align: var(--bs-body-text-align);">Thursday, October 13, 2022
(with a rain date of October 14) from 10:00am-12:30pm at Marietta High School.&nbsp; This year the event will be even bigger, as Pre-K students from the Emily Lembeck Early Learning Center and student-athletes from Campbell High School will be participating.&nbsp; We need volunteers to helps with setting up the games, coaching students during the games and event clean -up.&nbsp;&nbsp;</span></p><p class="xxmsonormal"><o:p></o:p></p><p>





</p><p class="xxmsonormal"><span style="font-family:&quot;Calibri Light&quot;,sans-serif">&nbsp;</span><o:p></o:p></p>
UID:Event6268
DTSTART:20221013T140000Z
DTEND:20221013T163000Z
DTSTAMP:20220607T173023Z
LAST-MODIFIED:20220607T173023Z
END:VEVENT

END:VCALENDAR