BEGIN:VCALENDAR
METHOD:PUBLISH
VERSION:2.0
PRODID:-//Brittney Grey, Marietta Visitors Bureau //Calendar//EN

BEGIN:VEVENT
SUMMARY:Marietta | Brittney Grey, Marietta Visitors Bureau 
DESCRIPTION:
X-ALT-DESC:
UID:Event9272
DTSTART:20260610T160000Z
DTEND:20260122T060000Z
DTSTAMP:20260122T230658Z
LAST-MODIFIED:20260122T230658Z
END:VEVENT

END:VCALENDAR